BEGIN:VCALENDAR
PRODID:-//PUBBLE//agenda//NL
VERSION:2.0
METHOD:PUBLISH
BEGIN:VEVENT
DTSTART:20260414T140942Z
DTEND:20260414T150942Z
DTSTAMP:20260420T095647Z
UID:066de071-9345-41e9-b093-7e3b24d28df0
CREATED:20260420T095647Z
NAME:Bevrijdingsontbijt hoieersel.nl
X-WR-CALNAME:Bevrijdingsontbijt
X-ALT-DESC;FMTTYPE=text/html:<a href='/agenda/2026/5/5/bevrijdingsontbijt-20144'>/agenda/2026/5/5/bevrijdingsontbijt-20144</a> || <p>Op 5 mei vindt in het openluchttheater Het Bevrijdingsontbijt (ook wel vrijheidsmaaltijd genoemd) plaats. Het Bevrijdingsontbijt is een maaltijd die je samen eet op 5 mei, de dag dat we vieren dat we in Nederland in vrijheid kunnen leven. Aan de eettafel van een Vrijheidsmaaltijd ontmoet je nieuwe gezichten, vinden we elkaar in de verhalen die we delen en veranderen onbekenden in bekenden. Juist nu vrijheid onder druk staat, is met elkaar in gesprek gaan belangrijker dan ooit.</p><p>Het bevrijdingsontbijt is een initiatief van het Nationaal Comite 4 en 5 mei om extra aandacht te geven aan de viering van onze vrijheid. Er is plaats voor 100 mensen om gratis deel te nemen. Het ontbijt zal plaatsvinden in de circa 160 m2 overdekte ruimte van het theater en begint om 10.00 uur. Let op: de toegang is gratis, maar in verband met het beperkte aantal plaatsen moet u reserveren via <a href="http://www.hunnebergen.com" rel="noopener noreferrer" target="_blank"><u>www.hunnebergen.com</u></a>.</p><p><span class="BOLD" cstyle="BOLD" style="color: rgba(0, 0, 0, 1); font-weight: bold">Rectificatie: </span>in een eerdere aankondiging van dit evenement stond dat Balkan oorlogsveteraan Eric Sint een presentatie zal geven. Helaas is deze informatie onjuist.</p>
DESCRIPTION:<a href='/agenda/2026/5/5/bevrijdingsontbijt-20144'>/agenda/2026/5/5/bevrijdingsontbijt-20144</a> || <p>Op 5 mei vindt in het openluchttheater Het Bevrijdingsontbijt (ook wel vrijheidsmaaltijd genoemd) plaats. Het Bevrijdingsontbijt is een maaltijd die je samen eet op 5 mei, de dag dat we vieren dat we in Nederland in vrijheid kunnen leven. Aan de eettafel van een Vrijheidsmaaltijd ontmoet je nieuwe gezichten, vinden we elkaar in de verhalen die we delen en veranderen onbekenden in bekenden. Juist nu vrijheid onder druk staat, is met elkaar in gesprek gaan belangrijker dan ooit.</p><p>Het bevrijdingsontbijt is een initiatief van het Nationaal Comite 4 en 5 mei om extra aandacht te geven aan de viering van onze vrijheid. Er is plaats voor 100 mensen om gratis deel te nemen. Het ontbijt zal plaatsvinden in de circa 160 m2 overdekte ruimte van het theater en begint om 10.00 uur. Let op: de toegang is gratis, maar in verband met het beperkte aantal plaatsen moet u reserveren via <a href="http://www.hunnebergen.com" rel="noopener noreferrer" target="_blank"><u>www.hunnebergen.com</u></a>.</p><p><span class="BOLD" cstyle="BOLD" style="color: rgba(0, 0, 0, 1); font-weight: bold">Rectificatie: </span>in een eerdere aankondiging van dit evenement stond dat Balkan oorlogsveteraan Eric Sint een presentatie zal geven. Helaas is deze informatie onjuist.</p>
LAST-MODIFIED:20260420T095647Z
LOCATION: Openluchttheater De Hunnebergen | Piet Hendrikxpad  Luyksgestel
SEQUENCE:0
STATUS:CONFIRMED
SUMMARY:Bevrijdingsontbijt
TRANSP:OPAQUE
END:VEVENT
END:VCALENDAR
