BEGIN:VCALENDAR
PRODID:-//PUBBLE//agenda//NL
VERSION:2.0
METHOD:PUBLISH
BEGIN:VEVENT
DTSTART:20260414T093940Z
DTEND:20260421T190000Z
DTSTAMP:20260420T095759Z
UID:aabe612e-9a7e-47ab-bd86-1b007bc56bd7
CREATED:20260420T095759Z
NAME:KempenEnergie helpt je bij het kiezen van een veilige & passende thuisbatterij hoieersel.nl
X-WR-CALNAME:KempenEnergie helpt je bij het kiezen van een veilige & passende thuisbatterij
X-ALT-DESC;FMTTYPE=text/html:<a href='/agenda/2026/4/21/kempenenergie-helpt-je-bij-het-kiezen-van-een-veilige-passende-thuisbatterij-20137'>/agenda/2026/4/21/kempenenergie-helpt-je-bij-het-kiezen-van-een-veilige-passende-thuisbatterij-20137</a> || <p>De vraag naar thuisbatterijen groeit snel, zeker nu de salderingsregeling in 2027 verdwijnt.</p><p>Veel mensen willen hun eigen zonne-energie opslaan. Maar de markt is onoverzichtelijk: talloze merken, verschillende capaciteiten, en wisselende verdienmodellen.</p><p>Zie jij door de bomen het bos niet meer? KempenEnergie biedt onafhankelijke, commerciële-vrije informatie van deskundige vrijwilligers uit de buurt.</p><p>Kom naar het energiecafé en ontdek wat wij voor jou kunnen betekenen.</p><p><span class="BOLD" cstyle="BOLD" style="color: rgba(0, 0, 0, 1); font-weight: bold">Datum en tijd<br></span>21 april van 19.30 tot 21.00 uur<br><span class="BOLD" cstyle="BOLD" style="color: rgba(0, 0, 0, 1); font-weight: bold">Locatie<br></span>De Muzenval, Dijk 7, Eersel</p><p>Meld je aan op: https://kempenenergie.nl/aanmelden-activiteiten</p>
DESCRIPTION:<a href='/agenda/2026/4/21/kempenenergie-helpt-je-bij-het-kiezen-van-een-veilige-passende-thuisbatterij-20137'>/agenda/2026/4/21/kempenenergie-helpt-je-bij-het-kiezen-van-een-veilige-passende-thuisbatterij-20137</a> || <p>De vraag naar thuisbatterijen groeit snel, zeker nu de salderingsregeling in 2027 verdwijnt.</p><p>Veel mensen willen hun eigen zonne-energie opslaan. Maar de markt is onoverzichtelijk: talloze merken, verschillende capaciteiten, en wisselende verdienmodellen.</p><p>Zie jij door de bomen het bos niet meer? KempenEnergie biedt onafhankelijke, commerciële-vrije informatie van deskundige vrijwilligers uit de buurt.</p><p>Kom naar het energiecafé en ontdek wat wij voor jou kunnen betekenen.</p><p><span class="BOLD" cstyle="BOLD" style="color: rgba(0, 0, 0, 1); font-weight: bold">Datum en tijd<br></span>21 april van 19.30 tot 21.00 uur<br><span class="BOLD" cstyle="BOLD" style="color: rgba(0, 0, 0, 1); font-weight: bold">Locatie<br></span>De Muzenval, Dijk 7, Eersel</p><p>Meld je aan op: https://kempenenergie.nl/aanmelden-activiteiten</p>
LAST-MODIFIED:20260420T095759Z
LOCATION: De Muzenval | Dijk 7 Eersel
SEQUENCE:0
STATUS:CONFIRMED
SUMMARY:KempenEnergie helpt je bij het kiezen van een veilige & passende thuisbatterij
TRANSP:OPAQUE
END:VEVENT
END:VCALENDAR
