BEGIN:VCALENDAR
PRODID:-//PUBBLE//agenda//NL
VERSION:2.0
METHOD:PUBLISH
BEGIN:VEVENT
DTSTART:20260410T070631Z
DTEND:20260410T080631Z
DTSTAMP:20260420T100053Z
UID:7f9ed844-ef5a-427d-8d49-d0b6ca75191f
CREATED:20260420T100053Z
NAME:MTB & Gravel De Merentocht hoieersel.nl
X-WR-CALNAME:MTB & Gravel De Merentocht
X-ALT-DESC;FMTTYPE=text/html:<a href='/agenda/2026/5/3/mtb-gravel-de-merentocht-20111'>/agenda/2026/5/3/mtb-gravel-de-merentocht-20111</a> || <p>Alweer voor de vierde keer vindt dit jaar, op zondag 3 mei, MTB &amp; Gravel De Merentocht plaats. Dit jaar dus niet meer op de eerste zondag van juni maar een maand eerder. De tocht voert door de prachtige bosrijke omgeving van Wintelre. Starten is mogelijk van 8.00 tot 10.00 uur vanaf de start- en finishlocatie bij Sportpark De Meren aan de Merenweg 2 in Wintelre.</p><p>MTB &amp; Gravel De Merentocht wordt georganiseerd door Fanfare/Drumband St. Willibrordus. De combinatie van een muziekvereniging en een MTB-tocht ligt misschien niet direct voor de hand, maar binnen de vereniging hebben we een diversiteit aan kwaliteiten aan boord die goed van pas komen bij de organisatie hiervan. Enkele fanatieke bikers zijn bereid gevonden om ons bij dit mooie initiatief te ondersteunen. Met Coop Tholen als hoofdsponsor zit het natuurlijk goed voor wat betreft de verzorging van de bikers! Daarnaast draagt voetbalclub VV Dees een steentje bij door het beschikbaar stellen van haar accommodatie.</p><p>MTB De Merentocht biedt een gevarieerd parcours van 35, 44 of 53 km voor de geoefende liefhebber en daarbij middels pijlen uitgezet. Het parcours loopt door de Kempische, bosrijke omgeving van Wintelre.</p><p>Nieuw dit jaar is de toevoeging van een rit voor de Gravelbike met afstanden van 56, 66, 86 of 96 kilometer. Ontdek een combinatie van single tracks, cross- en landwegen met een ’healthy gevulde’ pauzeplaats. Kortom, alles wat een biker maar wenst. Bij terugkomst kan uiteraard gezellig worden nagepraat onder het genot van heerlijke bakje goudgele stengels.</p><p>Met het organiseren van MTB &amp; Gravel De Merentocht dragen we bij aan het lokale initiatief van Stichting Rondom De Meren, waarin onze muziekvereniging partner is. Deze stichting heeft tot doel samen met diverse andere Wintelrese verenigingen meer sport, beweging en natuurbeleving voor iedereen te zorgen.</p><p>De voorbereidingen zijn in volle gang en we hopen jullie allen te mogen verwelkomen op 3 mei.</p><p>Meer weten? Blijf op de hoogte via de Facebookpagina ’MTB De Meren Tocht’ of volg het Instagram-account!</p>
DESCRIPTION:<a href='/agenda/2026/5/3/mtb-gravel-de-merentocht-20111'>/agenda/2026/5/3/mtb-gravel-de-merentocht-20111</a> || <p>Alweer voor de vierde keer vindt dit jaar, op zondag 3 mei, MTB &amp; Gravel De Merentocht plaats. Dit jaar dus niet meer op de eerste zondag van juni maar een maand eerder. De tocht voert door de prachtige bosrijke omgeving van Wintelre. Starten is mogelijk van 8.00 tot 10.00 uur vanaf de start- en finishlocatie bij Sportpark De Meren aan de Merenweg 2 in Wintelre.</p><p>MTB &amp; Gravel De Merentocht wordt georganiseerd door Fanfare/Drumband St. Willibrordus. De combinatie van een muziekvereniging en een MTB-tocht ligt misschien niet direct voor de hand, maar binnen de vereniging hebben we een diversiteit aan kwaliteiten aan boord die goed van pas komen bij de organisatie hiervan. Enkele fanatieke bikers zijn bereid gevonden om ons bij dit mooie initiatief te ondersteunen. Met Coop Tholen als hoofdsponsor zit het natuurlijk goed voor wat betreft de verzorging van de bikers! Daarnaast draagt voetbalclub VV Dees een steentje bij door het beschikbaar stellen van haar accommodatie.</p><p>MTB De Merentocht biedt een gevarieerd parcours van 35, 44 of 53 km voor de geoefende liefhebber en daarbij middels pijlen uitgezet. Het parcours loopt door de Kempische, bosrijke omgeving van Wintelre.</p><p>Nieuw dit jaar is de toevoeging van een rit voor de Gravelbike met afstanden van 56, 66, 86 of 96 kilometer. Ontdek een combinatie van single tracks, cross- en landwegen met een ’healthy gevulde’ pauzeplaats. Kortom, alles wat een biker maar wenst. Bij terugkomst kan uiteraard gezellig worden nagepraat onder het genot van heerlijke bakje goudgele stengels.</p><p>Met het organiseren van MTB &amp; Gravel De Merentocht dragen we bij aan het lokale initiatief van Stichting Rondom De Meren, waarin onze muziekvereniging partner is. Deze stichting heeft tot doel samen met diverse andere Wintelrese verenigingen meer sport, beweging en natuurbeleving voor iedereen te zorgen.</p><p>De voorbereidingen zijn in volle gang en we hopen jullie allen te mogen verwelkomen op 3 mei.</p><p>Meer weten? Blijf op de hoogte via de Facebookpagina ’MTB De Meren Tocht’ of volg het Instagram-account!</p>
LAST-MODIFIED:20260420T100053Z
LOCATION: Sportpark De Meren | Merenweg 2 Wintelre
SEQUENCE:0
STATUS:CONFIRMED
SUMMARY:MTB & Gravel De Merentocht
TRANSP:OPAQUE
END:VEVENT
END:VCALENDAR
