BEGIN:VCALENDAR
PRODID:-//PUBBLE//agenda//NL
VERSION:2.0
METHOD:PUBLISH
BEGIN:VEVENT
DTSTART:20260403T130000Z
DTEND:20260503T143000Z
DTSTAMP:20260420T100252Z
UID:2a1f7653-823b-4470-abe6-006e988584e7
CREATED:20260420T100252Z
NAME:Kindercollege: Spelen, schuilen en overleven tijdens de Tweede Wereldoorlog. hoieersel.nl
X-WR-CALNAME:Kindercollege: Spelen, schuilen en overleven tijdens de Tweede Wereldoorlog.
X-ALT-DESC;FMTTYPE=text/html:<a href='/agenda/2026/4/3/kindercollege-spelen-schuilen-en-overleven-tijdens-de-tweede-wereldoorlog--20076'>/agenda/2026/4/3/kindercollege-spelen-schuilen-en-overleven-tijdens-de-tweede-wereldoorlog--20076</a> || <p>Spelen, schuilen en overleven als het oorlog is? De kinderen in de Tweede Wereldoorlog (1940-1945) hebben dit meegemaakt. In 1940 vielen de Duitsers Nederland binnen en pas in 1945 was de oorlog echt afgelopen. Brabant was zelfs iets eerder bevrijd, in 1944 al.</p><p>Verhalen De Kinderen die opgroeiden tijdens deze oorlog waren eigenlijk net zoals de kinderen van nu. Ze lachten, maakten huiswerk, hadden dromen. Alleen veranderde hun leven totaal door de oorlog. Sommige kinderen moesten vluchten of schuilen, zoals Anne Frank. Anderen verloren vrienden of groeiden op in een gezin dat bij de NSB hoorde. Hun verhalen zijn spannend, verdrietig en soms ook dapper.</p><p>Hoe het écht was Het is in oktober alweer 81 jaar geleden dat Brabant bevrijd werd. Een mooi moment voor een nieuw Kindercollege over de Tweede Wereldoorlog. Tijdens dit Kindercollege neemt Andrea Driesse, leesmediaconsulent en historicus, je mee naar de wereld van de kinderen van toen. Je ziet dagboeken, filmpjes en verhalen en ontdekt hoe het écht was om kind te zijn in oorlogstijd in Brabant, de Kempen, en de rest van Nederland. Ook zijn er veel bijzondere jeugdboeken geschreven over kinderen in de oorlog; daar gaan we samen naar kijken. En jij mag ook zelf nadenken: wat zou jij doen als…?</p><p>Aanmelden Deelname is gratis. &nbsp;</p><p>Aanmelden kan via de agenda op onze website: www.bibliotheekdekempen.nl</p><p>Neem je bibliotheekpas mee als je langs komt, dan kun je gelijk een boek over de oorlog of bijvoorbeeld Anne Frank lenen.</p>
DESCRIPTION:<a href='/agenda/2026/4/3/kindercollege-spelen-schuilen-en-overleven-tijdens-de-tweede-wereldoorlog--20076'>/agenda/2026/4/3/kindercollege-spelen-schuilen-en-overleven-tijdens-de-tweede-wereldoorlog--20076</a> || <p>Spelen, schuilen en overleven als het oorlog is? De kinderen in de Tweede Wereldoorlog (1940-1945) hebben dit meegemaakt. In 1940 vielen de Duitsers Nederland binnen en pas in 1945 was de oorlog echt afgelopen. Brabant was zelfs iets eerder bevrijd, in 1944 al.</p><p>Verhalen De Kinderen die opgroeiden tijdens deze oorlog waren eigenlijk net zoals de kinderen van nu. Ze lachten, maakten huiswerk, hadden dromen. Alleen veranderde hun leven totaal door de oorlog. Sommige kinderen moesten vluchten of schuilen, zoals Anne Frank. Anderen verloren vrienden of groeiden op in een gezin dat bij de NSB hoorde. Hun verhalen zijn spannend, verdrietig en soms ook dapper.</p><p>Hoe het écht was Het is in oktober alweer 81 jaar geleden dat Brabant bevrijd werd. Een mooi moment voor een nieuw Kindercollege over de Tweede Wereldoorlog. Tijdens dit Kindercollege neemt Andrea Driesse, leesmediaconsulent en historicus, je mee naar de wereld van de kinderen van toen. Je ziet dagboeken, filmpjes en verhalen en ontdekt hoe het écht was om kind te zijn in oorlogstijd in Brabant, de Kempen, en de rest van Nederland. Ook zijn er veel bijzondere jeugdboeken geschreven over kinderen in de oorlog; daar gaan we samen naar kijken. En jij mag ook zelf nadenken: wat zou jij doen als…?</p><p>Aanmelden Deelname is gratis. &nbsp;</p><p>Aanmelden kan via de agenda op onze website: www.bibliotheekdekempen.nl</p><p>Neem je bibliotheekpas mee als je langs komt, dan kun je gelijk een boek over de oorlog of bijvoorbeeld Anne Frank lenen.</p>
LAST-MODIFIED:20260420T100252Z
LOCATION: Bibliotheek de Kempen | Dijk 5 Eersel
SEQUENCE:0
STATUS:CONFIRMED
SUMMARY:Kindercollege: Spelen, schuilen en overleven tijdens de Tweede Wereldoorlog.
TRANSP:OPAQUE
END:VEVENT
END:VCALENDAR
