BEGIN:VCALENDAR
PRODID:-//PUBBLE//agenda//NL
VERSION:2.0
METHOD:PUBLISH
BEGIN:VEVENT
DTSTART:20260325T054625Z
DTEND:20260325T064625Z
DTSTAMP:20260422T101550Z
UID:e4e5ad72-8867-4100-8c81-99e924759e18
CREATED:20260422T101550Z
NAME:Middaglezing ‘Robots in de zorg’ hoieersel.nl
X-WR-CALNAME:Middaglezing ‘Robots in de zorg’
X-ALT-DESC;FMTTYPE=text/html:<a href='/agenda/2026/4/20/middaglezing-robots-in-de-zorg-20036'>/agenda/2026/4/20/middaglezing-robots-in-de-zorg-20036</a> || <p>‘Robots in de zorg’ is het onderwerp van een lezing die op maandmiddag 20 april 2026 KVG Bladel wordt georganiseerd in BRUIS, Markt 6, Bladel.</p><p>De arbeidsmarktkrapte is groot. Er is een tekort aan personeel in heel veel sectoren. Ook in de ouderenzorg. En dat terwijl de zorgvraag alleen maar groter wordt. Gaan robots ons helpen om de zorgkloof te dichten?</p><p>Het gebruik van robots klinkt voor veel mensen nog als toekomstmuziek, maar steeds vaker komen wij al robots tegen in ons dagelijks leven. De stofzuigerrobot is al in veel huishoudens aan het werk en van een grasmaairobot kijken we ook niet meer op.<br><br>Hoe hard gaan de ontwikkelingen op het gebied van robots en wat gaan we hier de komende jaren van zien in de zorg? Gaan robots ons echt helpen bij het huishouden en bij het wassen en aankleden? Of gaan ze zelfs als gezelschap dienen?</p><p>Carin Jansen, expert op het gebied van robots in de ouderenzorg, vertelt tijdens deze presentatie aan de hand van veel foto’s en filmpjes welke robots er al worden ingezet in de zorg en wat de ontwikkelingen en verwachtingen zijn voor de komende jaren.</p><p>Iedereen is van harte welkom bij deze middaglezing op maandag 20 april in BRUIS, Markt 6, Bladel. Aanvang lezing om 13.30 uur, vanaf 13.00 uur bent u welkom voor een kopje koffie/thee.</p><p>Voor leden van KVG-Bladel is de lezing gratis. Aan andere belangstellenden vragen we een bijdrage van € 5,- (contant betalen of via QR-code) inclusief koffie/thee.<br>Niet KVG-leden kunnen zich aanmelden tot uiterlijk 19 april per mail <a href="mailto:voorzitter@kvgbladel.nl"><u>voorzitter@kvgbladel.nl</u></a> of telefonisch 06-11461609.</p>
DESCRIPTION:<a href='/agenda/2026/4/20/middaglezing-robots-in-de-zorg-20036'>/agenda/2026/4/20/middaglezing-robots-in-de-zorg-20036</a> || <p>‘Robots in de zorg’ is het onderwerp van een lezing die op maandmiddag 20 april 2026 KVG Bladel wordt georganiseerd in BRUIS, Markt 6, Bladel.</p><p>De arbeidsmarktkrapte is groot. Er is een tekort aan personeel in heel veel sectoren. Ook in de ouderenzorg. En dat terwijl de zorgvraag alleen maar groter wordt. Gaan robots ons helpen om de zorgkloof te dichten?</p><p>Het gebruik van robots klinkt voor veel mensen nog als toekomstmuziek, maar steeds vaker komen wij al robots tegen in ons dagelijks leven. De stofzuigerrobot is al in veel huishoudens aan het werk en van een grasmaairobot kijken we ook niet meer op.<br><br>Hoe hard gaan de ontwikkelingen op het gebied van robots en wat gaan we hier de komende jaren van zien in de zorg? Gaan robots ons echt helpen bij het huishouden en bij het wassen en aankleden? Of gaan ze zelfs als gezelschap dienen?</p><p>Carin Jansen, expert op het gebied van robots in de ouderenzorg, vertelt tijdens deze presentatie aan de hand van veel foto’s en filmpjes welke robots er al worden ingezet in de zorg en wat de ontwikkelingen en verwachtingen zijn voor de komende jaren.</p><p>Iedereen is van harte welkom bij deze middaglezing op maandag 20 april in BRUIS, Markt 6, Bladel. Aanvang lezing om 13.30 uur, vanaf 13.00 uur bent u welkom voor een kopje koffie/thee.</p><p>Voor leden van KVG-Bladel is de lezing gratis. Aan andere belangstellenden vragen we een bijdrage van € 5,- (contant betalen of via QR-code) inclusief koffie/thee.<br>Niet KVG-leden kunnen zich aanmelden tot uiterlijk 19 april per mail <a href="mailto:voorzitter@kvgbladel.nl"><u>voorzitter@kvgbladel.nl</u></a> of telefonisch 06-11461609.</p>
LAST-MODIFIED:20260422T101550Z
LOCATION: Bruis | Markt 6 Bladel
SEQUENCE:0
STATUS:CONFIRMED
SUMMARY:Middaglezing ‘Robots in de zorg’
TRANSP:OPAQUE
END:VEVENT
END:VCALENDAR
