BEGIN:VCALENDAR
PRODID:-//PUBBLE//agenda//NL
VERSION:2.0
METHOD:PUBLISH
BEGIN:VEVENT
DTSTART:20250912T074300Z
DTEND:20250912T084300Z
DTSTAMP:20260424T200320Z
UID:0df709d8-717f-4389-8a11-fcd0aa556ff7
CREATED:20260424T200320Z
NAME:Opening Bike Park Eersel hoieersel.nl
X-WR-CALNAME:Opening Bike Park Eersel
X-ALT-DESC;FMTTYPE=text/html:<a href='/agenda/2025/10/12/opening-bike-park-eersel-18733'>/agenda/2025/10/12/opening-bike-park-eersel-18733</a> || <p>Na een periode van meer dan anderhalf jaar bouwen, opent TWC de Contente haar multifunctionele accomodatie op zondag 12 oktober. Het officiële gedeelte start om 11.00 uur. Daarna kan er tot 15.00 uur vrij gereden worden door de jeugd. Voor alle kinderen op de fiets, is er een attentie. Voor koffie, thee en versnaperingen wordt gezorgd. Ook zijn er leenfietsen en demofietsen aanwezig. De opening vindt plaats aan de Broekstraat, het gravelpad langs de EFC velden.</p><p>Het bikepark is in eerste instantie geschikt als trainingsaccommodatie voor mountainbikers, maar kan door freerunners en wandelaars ook gebruikt worden. Met flinke hoogteverschillen en tal van technische elementen zoals drop-offs, een wallride, whaletail en een forse rockgarden is het zelfs uitdagend voor geoefende bikers om hier te trainen. Maar omdat alle technische elementen ook een passeerpad hebben, is het park voor iedereen veilig te rijden.</p><p>Door de ingang aan de Postelseweg is het Bikepark ook perfect te combineren met een rit over de omliggende MTB routes zoals de blauw gemarkeerde Witrijtroute.</p><p>Iedereen is welkom om onze nieuwe accommodatie te komen bekijken, graag tot dan!</p>
DESCRIPTION:<a href='/agenda/2025/10/12/opening-bike-park-eersel-18733'>/agenda/2025/10/12/opening-bike-park-eersel-18733</a> || <p>Na een periode van meer dan anderhalf jaar bouwen, opent TWC de Contente haar multifunctionele accomodatie op zondag 12 oktober. Het officiële gedeelte start om 11.00 uur. Daarna kan er tot 15.00 uur vrij gereden worden door de jeugd. Voor alle kinderen op de fiets, is er een attentie. Voor koffie, thee en versnaperingen wordt gezorgd. Ook zijn er leenfietsen en demofietsen aanwezig. De opening vindt plaats aan de Broekstraat, het gravelpad langs de EFC velden.</p><p>Het bikepark is in eerste instantie geschikt als trainingsaccommodatie voor mountainbikers, maar kan door freerunners en wandelaars ook gebruikt worden. Met flinke hoogteverschillen en tal van technische elementen zoals drop-offs, een wallride, whaletail en een forse rockgarden is het zelfs uitdagend voor geoefende bikers om hier te trainen. Maar omdat alle technische elementen ook een passeerpad hebben, is het park voor iedereen veilig te rijden.</p><p>Door de ingang aan de Postelseweg is het Bikepark ook perfect te combineren met een rit over de omliggende MTB routes zoals de blauw gemarkeerde Witrijtroute.</p><p>Iedereen is welkom om onze nieuwe accommodatie te komen bekijken, graag tot dan!</p>
LAST-MODIFIED:20260424T200320Z
LOCATION: Sportpark De Dieprijt | Postelseweg 70 Eersel
SEQUENCE:0
STATUS:CONFIRMED
SUMMARY:Opening Bike Park Eersel
TRANSP:OPAQUE
END:VEVENT
END:VCALENDAR
