BEGIN:VCALENDAR
PRODID:-//PUBBLE//agenda//NL
VERSION:2.0
METHOD:PUBLISH
BEGIN:VEVENT
DTSTART:20250908T050120Z
DTEND:20250908T060120Z
DTSTAMP:20260421T162010Z
UID:be1d61f8-6884-49dd-9a12-af450cc00386
CREATED:20260421T162010Z
NAME:Konings Schieten Groot Bergeijk hoieersel.nl
X-WR-CALNAME:Konings Schieten Groot Bergeijk
X-ALT-DESC;FMTTYPE=text/html:<a href='/agenda/2025/9/21/konings-schieten-groot-bergeijk-18700'>/agenda/2025/9/21/konings-schieten-groot-bergeijk-18700</a> || <p>Op zondag 21 september a.s. organiseert het Gilde van het Heilig Sacrament het jaarlijks Koningsschieten voor de gilden van Groot Bergeijk.<br>Het evenement vindt plaats op het gildeterrein van het Gilde van het Heilig Sacrament, gelegen aan de Riethovensedijk 15, Bergeijk.</p><p>Fietsen kunnen geplaatst worden op het grasveld van Bruns, tegenover het clubhuis.<br>Auto’s kan men parkeren op de parkeerplaatsen van Bruns, voorheen De Ploeg.</p><p>Iedereen is van harte welkom om dit mooie evenement, waaraan alle 5 de gilden van Groot Bergeijk deelnemen, te komen bezoeken.<br>Rondom het clubhuis zijn er diverse hapjes en drankjes te verkrijgen.</p><p>Na de schitterende Kringgildedag van 2024, die de 5 gilden samen in het Ploegpark hadden georganiseerd, is dit wederom een mooie gelegenheid om de 5 gilden in hun schitterende tenues te aanschouwen.<br>De entree en het parkeren is volledig gratis.</p><p><span class="BOLD" cstyle="BOLD" style="">PROGRAMMA</span><br><span class="BOLD" cstyle="BOLD" style="color: rgba(0, 0, 0, 1); font-weight: bold">12.30-12.50 uur: <br></span>Aankomst gilden. De gildeleden die mee willen doen aan het gaaischieten dienen zich direct in te schrijven.<br><span class="BOLD" cstyle="BOLD" style="color: rgba(0, 0, 0, 1); font-weight: bold">12.55 uur: <br></span>Opstellen voor de optocht, in de volgorde tamboers, bazuinblazers, hoofdvaandels, Koningen, Keizers, Hoofdlieden, B&amp;W en beschermheer, zilverdragers, gildebroeders, gildezusters en vendeliers.<br><span class="BOLD" cstyle="BOLD" style="color: rgba(0, 0, 0, 1); font-weight: bold">13.00 uur: <br></span>Vertrek optocht via de route, Riethovensedijk, Hof, Eerselsedijk, Evenemententerrein, Riethovensedijk .<br><span class="BOLD" cstyle="BOLD" style="color: rgba(0, 0, 0, 1); font-weight: bold">13.15 uur:<br></span>Bazuingroet en vendelgroet aan de bewoners van ’t Hofhuys in Bergeijk.<br><span class="BOLD" cstyle="BOLD" style="color: rgba(0, 0, 0, 1); font-weight: bold">13.30 uur:<br></span>Terugkeer op het terrein van het Sacramentsgilde Bergeijk.<br>Hernieuwing van de eed van trouw door de vaandrig van het Sacramentsgilde.<br>Hierna openingswoord door de voorzitter van de stuurgroep, vertegenwoordiger van het gemeentebestuur en beschermheer (onder voorbehoud).<br><span class="BOLD" cstyle="BOLD" style="color: rgba(0, 0, 0, 1); font-weight: bold">14.15 uur: <br></span>Aanvang gaaischieten op vogel, alleen voor gekostumeerde gildebroeders/zusters.<br><span class="BOLD" cstyle="BOLD" style="color: rgba(0, 0, 0, 1); font-weight: bold">15.15 uur:<br></span>Aanvang Koningschieten.<br>Openingsschoten. vertegenwoordiger gemeentebestuur, beschermheer, afgaande koning, daarna in volgorde van loting.<br>Aansluitend prijsuitreiking en overhandiging van de wisselschilden.<br><span class="BOLD" cstyle="BOLD" style="color: rgba(0, 0, 0, 1); font-weight: bold">16.00 uur:<br></span>Aanvang Burgerkoningschieten voor niet gekostumeerde gildeleden en aanwezige niet gildeleden uit Groot Bergeijk. Ook hieraan kan men gratis deelnemen.<br>Aansluitend prijsuitreiking en bekendmaking van de winnaar van het raden van het winnende schot op de Koningsvogel en de winnaar van het buksschieten.<br><span class="BOLD" cstyle="BOLD" style="color: rgba(0, 0, 0, 1); font-weight: bold">17.00 uur:<br></span>Officiële overdracht van de organisatie door de Hoofdman van het Sacramentsgilde Bergeijk aan de Hoofdman van het Sint Anna Gilde Riethoven.<br>Afsluitingswoord door de voorzitter van de stuurgroep.<br>Hierna nog een gezellig samenzijn tot .... uur?</p><p>Sinds enkele dagen heeft het Sacramentsgilde Bergeijk een nieuwe website. Het is echt de moeite waard om deze eens te bezoeken. Deze is bereikbaar onder <a href="http://www.sacramentsgildebergeijk.nl" rel="noopener noreferrer" target="_blank"><u>www.sacramentsgildebergeijk.nl</u></a><br>Ook doet het Sacramentsgilde Bergeijk mee aan de Rabo Clubsupport.<br>Ben je lid van de Rabobank, breng dan een van jouw stemmen uit op het Sacramentsgilde Bergeijk, dan kunnen we deze mooie activiteiten blijven organiseren.</p><p>De Overheid van het Gilde van het Heilig Sacrament Bergeijk.<br>In de volksmond beter bekend als Sacramentsgilde Bergeijk.</p>
DESCRIPTION:<a href='/agenda/2025/9/21/konings-schieten-groot-bergeijk-18700'>/agenda/2025/9/21/konings-schieten-groot-bergeijk-18700</a> || <p>Op zondag 21 september a.s. organiseert het Gilde van het Heilig Sacrament het jaarlijks Koningsschieten voor de gilden van Groot Bergeijk.<br>Het evenement vindt plaats op het gildeterrein van het Gilde van het Heilig Sacrament, gelegen aan de Riethovensedijk 15, Bergeijk.</p><p>Fietsen kunnen geplaatst worden op het grasveld van Bruns, tegenover het clubhuis.<br>Auto’s kan men parkeren op de parkeerplaatsen van Bruns, voorheen De Ploeg.</p><p>Iedereen is van harte welkom om dit mooie evenement, waaraan alle 5 de gilden van Groot Bergeijk deelnemen, te komen bezoeken.<br>Rondom het clubhuis zijn er diverse hapjes en drankjes te verkrijgen.</p><p>Na de schitterende Kringgildedag van 2024, die de 5 gilden samen in het Ploegpark hadden georganiseerd, is dit wederom een mooie gelegenheid om de 5 gilden in hun schitterende tenues te aanschouwen.<br>De entree en het parkeren is volledig gratis.</p><p><span class="BOLD" cstyle="BOLD" style="">PROGRAMMA</span><br><span class="BOLD" cstyle="BOLD" style="color: rgba(0, 0, 0, 1); font-weight: bold">12.30-12.50 uur: <br></span>Aankomst gilden. De gildeleden die mee willen doen aan het gaaischieten dienen zich direct in te schrijven.<br><span class="BOLD" cstyle="BOLD" style="color: rgba(0, 0, 0, 1); font-weight: bold">12.55 uur: <br></span>Opstellen voor de optocht, in de volgorde tamboers, bazuinblazers, hoofdvaandels, Koningen, Keizers, Hoofdlieden, B&amp;W en beschermheer, zilverdragers, gildebroeders, gildezusters en vendeliers.<br><span class="BOLD" cstyle="BOLD" style="color: rgba(0, 0, 0, 1); font-weight: bold">13.00 uur: <br></span>Vertrek optocht via de route, Riethovensedijk, Hof, Eerselsedijk, Evenemententerrein, Riethovensedijk .<br><span class="BOLD" cstyle="BOLD" style="color: rgba(0, 0, 0, 1); font-weight: bold">13.15 uur:<br></span>Bazuingroet en vendelgroet aan de bewoners van ’t Hofhuys in Bergeijk.<br><span class="BOLD" cstyle="BOLD" style="color: rgba(0, 0, 0, 1); font-weight: bold">13.30 uur:<br></span>Terugkeer op het terrein van het Sacramentsgilde Bergeijk.<br>Hernieuwing van de eed van trouw door de vaandrig van het Sacramentsgilde.<br>Hierna openingswoord door de voorzitter van de stuurgroep, vertegenwoordiger van het gemeentebestuur en beschermheer (onder voorbehoud).<br><span class="BOLD" cstyle="BOLD" style="color: rgba(0, 0, 0, 1); font-weight: bold">14.15 uur: <br></span>Aanvang gaaischieten op vogel, alleen voor gekostumeerde gildebroeders/zusters.<br><span class="BOLD" cstyle="BOLD" style="color: rgba(0, 0, 0, 1); font-weight: bold">15.15 uur:<br></span>Aanvang Koningschieten.<br>Openingsschoten. vertegenwoordiger gemeentebestuur, beschermheer, afgaande koning, daarna in volgorde van loting.<br>Aansluitend prijsuitreiking en overhandiging van de wisselschilden.<br><span class="BOLD" cstyle="BOLD" style="color: rgba(0, 0, 0, 1); font-weight: bold">16.00 uur:<br></span>Aanvang Burgerkoningschieten voor niet gekostumeerde gildeleden en aanwezige niet gildeleden uit Groot Bergeijk. Ook hieraan kan men gratis deelnemen.<br>Aansluitend prijsuitreiking en bekendmaking van de winnaar van het raden van het winnende schot op de Koningsvogel en de winnaar van het buksschieten.<br><span class="BOLD" cstyle="BOLD" style="color: rgba(0, 0, 0, 1); font-weight: bold">17.00 uur:<br></span>Officiële overdracht van de organisatie door de Hoofdman van het Sacramentsgilde Bergeijk aan de Hoofdman van het Sint Anna Gilde Riethoven.<br>Afsluitingswoord door de voorzitter van de stuurgroep.<br>Hierna nog een gezellig samenzijn tot .... uur?</p><p>Sinds enkele dagen heeft het Sacramentsgilde Bergeijk een nieuwe website. Het is echt de moeite waard om deze eens te bezoeken. Deze is bereikbaar onder <a href="http://www.sacramentsgildebergeijk.nl" rel="noopener noreferrer" target="_blank"><u>www.sacramentsgildebergeijk.nl</u></a><br>Ook doet het Sacramentsgilde Bergeijk mee aan de Rabo Clubsupport.<br>Ben je lid van de Rabobank, breng dan een van jouw stemmen uit op het Sacramentsgilde Bergeijk, dan kunnen we deze mooie activiteiten blijven organiseren.</p><p>De Overheid van het Gilde van het Heilig Sacrament Bergeijk.<br>In de volksmond beter bekend als Sacramentsgilde Bergeijk.</p>
LAST-MODIFIED:20260421T162010Z
LOCATION: Ploegpark | Riethovensedijk 4 Bergeijk
SEQUENCE:0
STATUS:CONFIRMED
SUMMARY:Konings Schieten Groot Bergeijk
TRANSP:OPAQUE
END:VEVENT
END:VCALENDAR
