BEGIN:VCALENDAR
PRODID:-//PUBBLE//agenda//NL
VERSION:2.0
METHOD:PUBLISH
BEGIN:VEVENT
DTSTART:20250910T080000Z
DTEND:20250910T094500Z
DTSTAMP:20260419T130226Z
UID:19daef36-b196-4b9c-800a-19bcc90959ba
CREATED:20260419T130226Z
NAME:Bewogen Bewegen; Dans hoieersel.nl
X-WR-CALNAME:Bewogen Bewegen; Dans
X-ALT-DESC;FMTTYPE=text/html:<a href='/agenda/2025/9/10/bewogen-bewegen-dans-18637'>/agenda/2025/9/10/bewogen-bewegen-dans-18637</a> || <p>Vanaf 10 september start de cursus Bewogen Bewegen; Dans weer in De Buitengaander.</p><p>2x per maand bewegen op muziek uit alle delen van de wereld en expressie geven aan je beleving. Voor iedereen die geniet van muziek en dans; ook zittend op een stoel kun je dansen en van alles beleven.</p><p>Kijk voor alle informatie op <a href="//www.rosarom.nl">www.rosarom.nl</a> of op de cursus agenda van de Buitengaander</p>
DESCRIPTION:<a href='/agenda/2025/9/10/bewogen-bewegen-dans-18637'>/agenda/2025/9/10/bewogen-bewegen-dans-18637</a> || <p>Vanaf 10 september start de cursus Bewogen Bewegen; Dans weer in De Buitengaander.</p><p>2x per maand bewegen op muziek uit alle delen van de wereld en expressie geven aan je beleving. Voor iedereen die geniet van muziek en dans; ook zittend op een stoel kun je dansen en van alles beleven.</p><p>Kijk voor alle informatie op <a href="//www.rosarom.nl">www.rosarom.nl</a> of op de cursus agenda van de Buitengaander</p>
LAST-MODIFIED:20260419T130226Z
LOCATION: De Buitengaander | Dorpstraat 9 Westerhoven
SEQUENCE:0
STATUS:CONFIRMED
SUMMARY:Bewogen Bewegen; Dans
TRANSP:OPAQUE
END:VEVENT
END:VCALENDAR
