BEGIN:VCALENDAR
PRODID:-//PUBBLE//agenda//NL
VERSION:2.0
METHOD:PUBLISH
BEGIN:VEVENT
DTSTART:20250804T083930Z
DTEND:20250804T093930Z
DTSTAMP:20260423T153846Z
UID:5ffed911-598e-42e1-a30d-71a78aaf6452
CREATED:20260423T153846Z
NAME:Zomerconcert Jeugd Brass Band in Knegsel hoieersel.nl
X-WR-CALNAME:Zomerconcert Jeugd Brass Band in Knegsel
X-ALT-DESC;FMTTYPE=text/html:<a href='/agenda/2025/8/17/zomerconcert-jeugd-brass-band-in-knegsel-18423'>/agenda/2025/8/17/zomerconcert-jeugd-brass-band-in-knegsel-18423</a> || <p><span class="BOLD" cstyle="BOLD" style="color: rgba(0, 0, 0, 1); font-weight: bold">Zomerconcert vol jong talent: Kom luisteren naar de Nederlandse Jeugd Brass Band in Knegsel</span><br>Knegsel is opnieuw het toneel van een bijzonder muzikaal evenement. Tijdens de Zomerweek van de Nederlandse Jeugd Brass Band (NJBB) verzamelen zich maar liefst 80 getalenteerde jonge muzikanten uit heel Nederland én België in het dorp. Ze worden een week lang, van 11 t/m 17 augustus, intensief gecoacht door internationale topdirigenten uit Noorwegen (Margaret Antrobus) en Engeland (Tom Hutchinson), en repeteren in twee orkesten in het dorpshuis De Leenhoef.</p><p>Het resultaat van een week lang hard werken, leren en samen musiceren is voor iedereen te horen tijdens het buitenconcert op zondag 17 augustus om 10.30 uur op het dorpsplein van Knegsel!</p><p>Nog niet bekend met brassbandmuziek? Dan is dit het perfecte moment om te komen luisteren. Een brassband is een orkest dat bestaat uit koperblazers en slagwerk, en staat bekend om zijn warme, volle geluid en indrukwekkende klanken. Tijdens het concert worden stukken gespeeld uit het internationale brassbandrepertoire, variërend van lyrische werken tot energieke showstukken.</p><p>Laat je verrassen door het indrukwekkende niveau van deze jonge musici. Kom luisteren naar de nieuwe generatie talentvolle muzikanten en geniet van een gratis concert vol energie, passie en muzikaliteit, gewoon bij u om de hoek!</p><p>Zondag 17 augustus om 10.30 uur<br>Het dorpsplein van Knegsel (Het Groen 37)<br>Toegang is gratis!</p><p>Meer informatie via

<a href="http://www.nederlandsejeugdbrassband.nl" rel="noopener noreferrer" target="_blank">www.nederlandsejeugdbrassband.nl</a> of volg ons op sociale media: @NederlandseJeugdBrassBand</p>
DESCRIPTION:<a href='/agenda/2025/8/17/zomerconcert-jeugd-brass-band-in-knegsel-18423'>/agenda/2025/8/17/zomerconcert-jeugd-brass-band-in-knegsel-18423</a> || <p><span class="BOLD" cstyle="BOLD" style="color: rgba(0, 0, 0, 1); font-weight: bold">Zomerconcert vol jong talent: Kom luisteren naar de Nederlandse Jeugd Brass Band in Knegsel</span><br>Knegsel is opnieuw het toneel van een bijzonder muzikaal evenement. Tijdens de Zomerweek van de Nederlandse Jeugd Brass Band (NJBB) verzamelen zich maar liefst 80 getalenteerde jonge muzikanten uit heel Nederland én België in het dorp. Ze worden een week lang, van 11 t/m 17 augustus, intensief gecoacht door internationale topdirigenten uit Noorwegen (Margaret Antrobus) en Engeland (Tom Hutchinson), en repeteren in twee orkesten in het dorpshuis De Leenhoef.</p><p>Het resultaat van een week lang hard werken, leren en samen musiceren is voor iedereen te horen tijdens het buitenconcert op zondag 17 augustus om 10.30 uur op het dorpsplein van Knegsel!</p><p>Nog niet bekend met brassbandmuziek? Dan is dit het perfecte moment om te komen luisteren. Een brassband is een orkest dat bestaat uit koperblazers en slagwerk, en staat bekend om zijn warme, volle geluid en indrukwekkende klanken. Tijdens het concert worden stukken gespeeld uit het internationale brassbandrepertoire, variërend van lyrische werken tot energieke showstukken.</p><p>Laat je verrassen door het indrukwekkende niveau van deze jonge musici. Kom luisteren naar de nieuwe generatie talentvolle muzikanten en geniet van een gratis concert vol energie, passie en muzikaliteit, gewoon bij u om de hoek!</p><p>Zondag 17 augustus om 10.30 uur<br>Het dorpsplein van Knegsel (Het Groen 37)<br>Toegang is gratis!</p><p>Meer informatie via

<a href="http://www.nederlandsejeugdbrassband.nl" rel="noopener noreferrer" target="_blank">www.nederlandsejeugdbrassband.nl</a> of volg ons op sociale media: @NederlandseJeugdBrassBand</p>
LAST-MODIFIED:20260423T153846Z
LOCATION: Centrum |   Knegsel
SEQUENCE:0
STATUS:CONFIRMED
SUMMARY:Zomerconcert Jeugd Brass Band in Knegsel
TRANSP:OPAQUE
END:VEVENT
END:VCALENDAR
